BEGIN:VCALENDAR
VERSION:2.0
PRODID:-//hacksw/handcal//NONSGML v1.0//EN
CALSCALE:GREGORIAN
BEGIN:VEVENT
ORGANIZER;CN=Alerus Financial:MAILTO:no-reply@gcs-web.com
DTEND:
UID:afaaa751-be70-4b9d-9d4e-0cf0c0911a26
DTSTAMP:1776953155
LOCATION:https://edge.media-server.com/mmc/p/52pjzmgx/
DESCRIPTION:Event Details https://investors.alerus.com/events/event-details/annual-stockholder-meeting-0\n\nWebcast: https://edge.media-server.com/mmc/p/52pjzmgx/
URL;VALUE=URI:https://edge.media-server.com/mmc/p/52pjzmgx/
SUMMARY:Alerus Financial - Annual Stockholder Meeting
DTSTART:20260514T183000Z
END:VEVENT
END:VCALENDAR